BEGIN:VCALENDAR
VERSION:2.0
PRODID:-//NO AL MACROVERTEDERO DE MONÓVAR - ECPv6.0.2//NONSGML v1.0//EN
CALSCALE:GREGORIAN
METHOD:PUBLISH
X-WR-CALNAME:NO AL MACROVERTEDERO DE MONÓVAR
X-ORIGINAL-URL:https://www.novertederomonovar.es
X-WR-CALDESC:Events for NO AL MACROVERTEDERO DE MONÓVAR
REFRESH-INTERVAL;VALUE=DURATION:PT1H
X-Robots-Tag:noindex
X-PUBLISHED-TTL:PT1H
BEGIN:VTIMEZONE
TZID:Europe/Madrid
BEGIN:DAYLIGHT
TZOFFSETFROM:+0100
TZOFFSETTO:+0200
TZNAME:CEST
DTSTART:20220327T010000
END:DAYLIGHT
BEGIN:STANDARD
TZOFFSETFROM:+0200
TZOFFSETTO:+0100
TZNAME:CET
DTSTART:20221030T010000
END:STANDARD
END:VTIMEZONE
BEGIN:VEVENT
DTSTART;TZID=Europe/Madrid:20221121T090000
DTEND;TZID=Europe/Madrid:20221121T140000
DTSTAMP:20260424T012732
CREATED:20221114T062959Z
LAST-MODIFIED:20221114T062959Z
UID:563-1669021200-1669039200@www.novertederomonovar.es
SUMMARY:Recogida de Firmas en Mercado de Abastos
DESCRIPTION:
URL:https://www.novertederomonovar.es/evento/recogida-de-firmas-en-mercado-de-abastos-3/
LOCATION:Mercado de Abastos\, C/ Exconvento 1\, Monóvar\, Alicante\, 03640\, España
ORGANIZER;CN="Plataforma%20No%20al%20Macrovertedero%20de%20Mon%C3%B3var":MAILTO:contactar@novertederomonovar.es
END:VEVENT
END:VCALENDAR