BEGIN:VCALENDAR
VERSION:2.0
PRODID:-//NO AL MACROVERTEDERO DE MONÓVAR - ECPv6.0.2//NONSGML v1.0//EN
CALSCALE:GREGORIAN
METHOD:PUBLISH
X-WR-CALNAME:NO AL MACROVERTEDERO DE MONÓVAR
X-ORIGINAL-URL:https://www.novertederomonovar.es
X-WR-CALDESC:Events for NO AL MACROVERTEDERO DE MONÓVAR
REFRESH-INTERVAL;VALUE=DURATION:PT1H
X-Robots-Tag:noindex
X-PUBLISHED-TTL:PT1H
BEGIN:VTIMEZONE
TZID:UTC
BEGIN:STANDARD
TZOFFSETFROM:+0000
TZOFFSETTO:+0000
TZNAME:UTC
DTSTART:20220101T000000
END:STANDARD
END:VTIMEZONE
BEGIN:VEVENT
DTSTART;TZID=UTC:20221114T090000
DTEND;TZID=UTC:20221114T140000
DTSTAMP:20260424T012821
CREATED:20221027T044135Z
LAST-MODIFIED:20221027T044135Z
UID:328-1668416400-1668434400@www.novertederomonovar.es
SUMMARY:Recogida de Firmas en Mercado de Abastos
DESCRIPTION:
URL:https://www.novertederomonovar.es/evento/recogida-de-firmas-en-mercado-de-abastos-2/
LOCATION:Mercado de Abastos\, C/ Exconvento 1\, Monóvar\, Alicante\, 03640\, España
ORGANIZER;CN="Plataforma%20No%20al%20Macrovertedero%20de%20Mon%C3%B3var":MAILTO:contactar@novertederomonovar.es
END:VEVENT
END:VCALENDAR